BEGIN:VCALENDAR
VERSION:2.0
PRODID:-//jEvents 2.0 for Joomla//EN
CALSCALE:GREGORIAN
METHOD:PUBLISH
BEGIN:VEVENT
UID:7fd615760866dc735dfa4dc8521531e0
CATEGORIES:Allmänt
SUMMARY:Sommargudstjänst i Överrödå
LOCATION:Överrödå Byastuga
DESCRIPTION;ENCODING=QUOTED-PRINTABLE:<p>Gudstjänst i Midsommartid</p>
X-EXTRAINFO:Präst Maria Bäckman, kantor Isa Brolin.\nSommarfika! 
DTSTAMP:20260422T102421Z
DTSTART:20190623T110000Z
SEQUENCE:0
TRANSP:OPAQUE
END:VEVENT
END:VCALENDAR