BEGIN:VCALENDAR
VERSION:2.0
PRODID:-//jEvents 2.0 for Joomla//EN
CALSCALE:GREGORIAN
METHOD:PUBLISH
BEGIN:VEVENT
UID:9132c53d7d769d396a4df61b32eeb06a
CATEGORIES:Allmänt
SUMMARY:Wärdshuset helgöppet
LOCATION:Wärdhuset, Tavelsjö Strandvägen 25
DESCRIPTION;ENCODING=QUOTED-PRINTABLE:\n\n\n
CONTACT:070-243 29 40  http://wardshusettavelsjo.se
X-EXTRAINFO:I sommar har vi öppet alla dagar 12-16\nOnsdagar kör vi 12-22 (under juli m
 ånad) \nVälkomna!
DTSTAMP:20260422T101906Z
DTSTART:20190629T120000Z
DTEND:20190629T160000Z
SEQUENCE:0
TRANSP:OPAQUE
END:VEVENT
END:VCALENDAR