BEGIN:VCALENDAR
VERSION:2.0
PRODID:-//jEvents 2.0 for Joomla//EN
CALSCALE:GREGORIAN
METHOD:PUBLISH
BEGIN:VEVENT
UID:5cddcba002332d7f038b60a552e2aafa
CATEGORIES:Allmänt
SUMMARY:Sommarpremiär Wärdshuset
LOCATION:Wärdhuset, Tavelsjö Strandvägen 25
DESCRIPTION;ENCODING=QUOTED-PRINTABLE:\n\n\n
CONTACT:070-243 29 40  http://wardshusettavelsjo.se
X-EXTRAINFO:I sommar har vi öppet alla dagar 12-16\nOnsdagar kör vi 12-22 (under juli m
 ånad) \nVälkomna!
DTSTAMP:20260422T101619Z
DTSTART:20190627T120000Z
DTEND:20190627T160000Z
SEQUENCE:0
TRANSP:OPAQUE
END:VEVENT
END:VCALENDAR