BEGIN:VCALENDAR
VERSION:2.0
PRODID:-//jEvents 2.0 for Joomla//EN
CALSCALE:GREGORIAN
METHOD:PUBLISH
BEGIN:VEVENT
UID:0ebf2aa4710ce63f2e9f40df5e9ce76a
CATEGORIES:Allmänt
SUMMARY:Sommarpremiär Wärdshuset
LOCATION:Wärdhuset, Tavelsjö Strandvägen 25
DESCRIPTION;ENCODING=QUOTED-PRINTABLE:\n\n\n
CONTACT:070-243 29 40  http://wardshusettavelsjo.se
X-EXTRAINFO:I sommar har vi öppet alla dagar 12-16\nOnsdagar kör vi 12-22 (under juli m
 ånad) \nVälkomna!
DTSTAMP:20260422T101651Z
DTSTART:20190624T120000Z
DTEND:20190624T160000Z
SEQUENCE:0
TRANSP:OPAQUE
END:VEVENT
END:VCALENDAR