BEGIN:VCALENDAR
VERSION:2.0
PRODID:-//jEvents 2.0 for Joomla//EN
CALSCALE:GREGORIAN
METHOD:PUBLISH
BEGIN:VEVENT
UID:485ddaab8504c7ab4937f1818a81963f
CATEGORIES:Allmänt
SUMMARY:Wärdshuset midsommarstängt.
LOCATION:Wärdhuset, Tavelsjö Strandvägen 25
DESCRIPTION;ENCODING=QUOTED-PRINTABLE:\n\n\n
CONTACT:070-243 29 40  http://wardshusettavelsjo.se
X-EXTRAINFO:Midsommarhelgen har vi stängt. \nVi tar välbehövlig ledighet innan vi öppna
 r på allvar den 24 juni. \nSå varmt välkomna i sommar - öppet varje dag 12-
 16, onsdagar 12-22 (under juli månad) \n☀️☀️Allt med start den 24 juni ☀️☀️
DTSTAMP:20260422T101608Z
DTSTART:20190621T120000Z
DTEND:20190621T160000Z
SEQUENCE:0
TRANSP:OPAQUE
END:VEVENT
END:VCALENDAR