BEGIN:VCALENDAR
VERSION:2.0
PRODID:-//jEvents 2.0 for Joomla//EN
CALSCALE:GREGORIAN
METHOD:PUBLISH
BEGIN:VEVENT
UID:01242c59f088ceeb4e013f722151e53d
CATEGORIES:Allmänt
SUMMARY:Lördagsöppet Oxviken
LOCATION:Oxvikens gård  Långviken, Tavelsjö
DESCRIPTION;ENCODING=QUOTED-PRINTABLE:\n\n\n
CONTACT:Sybil Sundling 070-392 7787
X-EXTRAINFO:Fredag 14 juni har vi öppet 15-18.\n Vi har grönsaksplantor till salu, lite
  petunia och blomstertobak bl a till jorden.\n Till magen finns goda linder
 ödsparisare och linderödsgrillkorv med ramslök\n
DTSTAMP:20260422T101618Z
DTSTART:20190615T150000Z
DTEND:20190615T180000Z
SEQUENCE:0
TRANSP:OPAQUE
END:VEVENT
END:VCALENDAR