BEGIN:VCALENDAR
VERSION:2.0
PRODID:-//jEvents 2.0 for Joomla//EN
CALSCALE:GREGORIAN
METHOD:PUBLISH
BEGIN:VEVENT
UID:eb50cc6090b9afe09951da64724a52dc
CATEGORIES:Allmänt
SUMMARY:Kyrkogårdsvandring
LOCATION:Kyrkogårdsvandring på nya kyrkogården i Tavelsjö.
DESCRIPTION;ENCODING=QUOTED-PRINTABLE:<p>Varje vår brukar vi göra en vandring på kyrkogården, och samtala om dom 
 som vilar i gravarna. Ingen minns allt, men tillsammans kan vi ofta hitta m
 innen som berättar om våra förfäder.</p><p>Årets vandring sker söndag 16 ju
 ni kl. 13.00. Vi brukar hålla på en dryg timme.</p><p>Tavelsjö Hembygdsföre
 ning </p><p>Välkomna!</p>
CONTACT:Rolf Appelblad 070 681 35 71
DTSTAMP:20260422T102247Z
DTSTART:20190616T130000Z
SEQUENCE:0
TRANSP:OPAQUE
END:VEVENT
END:VCALENDAR