BEGIN:VCALENDAR
VERSION:2.0
PRODID:-//jEvents 2.0 for Joomla//EN
CALSCALE:GREGORIAN
METHOD:PUBLISH
BEGIN:VEVENT
UID:3fe969cdf71c218f52c8595d0e06628e
CATEGORIES:Allmänt
SUMMARY:Uppstartsmöte fotbollskul
LOCATION:Klacken Tavelsjö
DESCRIPTION;ENCODING=QUOTED-PRINTABLE:\n\n\n
X-EXTRAINFO:Skoj med boll! Nu drar vi igång ytterligare en fotbollskull i Tavelsjö. Poj
 kar och flickor födda 2013! Vi välkomnar alla föräldrar på ett uppstartsmöt
 e, tisdagen den 11/6, kl 18! 
DTSTAMP:20260422T101701Z
DTSTART:20190611T180000Z
DTEND:20190611T200000Z
SEQUENCE:0
TRANSP:OPAQUE
END:VEVENT
END:VCALENDAR