BEGIN:VCALENDAR
VERSION:2.0
PRODID:-//jEvents 2.0 for Joomla//EN
CALSCALE:GREGORIAN
METHOD:PUBLISH
BEGIN:VEVENT
UID:28945fb4abe294e538d574434edd859d
CATEGORIES:Allmänt
SUMMARY:Loppis Väsdterbacka
LOCATION:Västerbacka-Långvikens skolhus 
DESCRIPTION;ENCODING=QUOTED-PRINTABLE:\n\n\n
CONTACT:Anmälan för att boka bord till Cecilia Söderqvist
X-EXTRAINFO:Loppis lördag 8/6 kl 10-14 Västerbacka- Långvikens skolhus.\n Rensa ur förr
 åden och låt det leva vidare!\n Loppis/Bakluckeloppis.\n Fikaförsäljning me
 d fikabuffé!\n 50kr/bord och 40kr för baklucka.\n
DTSTAMP:20260422T101650Z
DTSTART:20190608T100000Z
DTEND:20190608T140000Z
SEQUENCE:0
TRANSP:OPAQUE
END:VEVENT
END:VCALENDAR