BEGIN:VCALENDAR
VERSION:2.0
PRODID:-//jEvents 2.0 for Joomla//EN
CALSCALE:GREGORIAN
METHOD:PUBLISH
BEGIN:VEVENT
UID:9afde30a5fafbf87cf688a8298ccc170
CATEGORIES:Allmänt
SUMMARY:Fiskepremiär Västerbackatjärn
LOCATION:Tavelsjö, Västerbackatjärn
DESCRIPTION;ENCODING=QUOTED-PRINTABLE:\n\n\n
CONTACT:Stefan 0703430188
X-EXTRAINFO:12.00 börjar vi fisket.\n Stövlar och stark Lina rekommenderas \n Välkomna\
 n \n
DTSTAMP:20260422T101607Z
DTSTART:20190601T120000Z
DTEND:20190601T140000Z
SEQUENCE:0
TRANSP:OPAQUE
END:VEVENT
END:VCALENDAR