BEGIN:VCALENDAR
VERSION:2.0
PRODID:-//jEvents 2.0 for Joomla//EN
CALSCALE:GREGORIAN
METHOD:PUBLISH
BEGIN:VEVENT
UID:8a16e7f2f17e4d36f8c1e2230560c12e
CATEGORIES:Allmänt
SUMMARY:Lördagscafé & loppis
LOCATION:Norrby byastuga
DESCRIPTION;ENCODING=QUOTED-PRINTABLE:\n\n\n
X-EXTRAINFO:På lördag är det dags igen...\nSommarcafé och Loppishörnan är öppen 12-14.\
 nGott fika lovas!\nPassa på och gör ett besök hos grannen Hansskogs plantsk
 ola\nVälkomna!\n
DTSTAMP:20260422T101650Z
DTSTART:20190601T120000Z
DTEND:20190601T140000Z
SEQUENCE:0
TRANSP:OPAQUE
END:VEVENT
END:VCALENDAR