BEGIN:VCALENDAR
VERSION:2.0
PRODID:-//jEvents 2.0 for Joomla//EN
CALSCALE:GREGORIAN
METHOD:PUBLISH
BEGIN:VEVENT
UID:ba0dd672342ff769622a7926119f88cf
CATEGORIES:Allmänt
SUMMARY:STF Tio Toppar Tavelsjö
LOCATION:Tavelsjö
DESCRIPTION;ENCODING=QUOTED-PRINTABLE:\n\n\n
CONTACT:anmälan: John Cumberbatch 070 307 87 08 
X-EXTRAINFO:Söndag 25 augusti kl. 09.30-16.00. \nVi börjar utforska "Tio Toppar" genom 
 att vandra till och från några av dem med fina utsikter. Vi åker bil mellan
  vandringslederna. Totalt ca 8 km vandring. \nSamling: P-platsen V om jvgst
 n Umeå C , 09:30 \nPlats: Tavelsjö \nFör vem?  Alla \nFör mer information o
 ch anmälan: John Cumberbatch 070 307 87 08 \n
DTSTAMP:20260422T072431Z
DTSTART:20190825T093000Z
DTEND:20190825T160000Z
SEQUENCE:0
TRANSP:OPAQUE
END:VEVENT
END:VCALENDAR