BEGIN:VCALENDAR
VERSION:2.0
PRODID:-//jEvents 2.0 for Joomla//EN
CALSCALE:GREGORIAN
METHOD:PUBLISH
BEGIN:VEVENT
UID:bd7204f383b384f45c22aeefb1c4d06f
CATEGORIES:Allmänt
SUMMARY:STF Cykeltur 
LOCATION:Tavelsjö
DESCRIPTION;ENCODING=QUOTED-PRINTABLE:\n\n\n
CONTACT:anmälan: John Cumberbatch 070 307 87 08
X-EXTRAINFO:OBS Anmäl behov av cykeltransport till John Cumberbatch 070 307 87 08 . \nV
 i cyklar i lugn takt från Tavelsjö via Varmvattnet till Vindelälven vid Röd
 ånäs, vidare via broar över älven till Selet och tillbaka. Åter till Tavels
 jö via Rödåsel och badet vid Hundsjön. Totalt ca 3 mil. Turen kan förkortas
 .  \nPlats: Tavelsjö \nFör vem?  Alla \nFör mer information och anmälan: Jo
 hn Cumberbatch 070 307 87 08\n
DTSTAMP:20260422T101749Z
DTSTART:20190616T090000Z
DTEND:20190616T160000Z
SEQUENCE:0
TRANSP:OPAQUE
END:VEVENT
END:VCALENDAR