BEGIN:VCALENDAR
VERSION:2.0
PRODID:-//jEvents 2.0 for Joomla//EN
CALSCALE:GREGORIAN
METHOD:PUBLISH
BEGIN:VEVENT
UID:c410b1a7d2ade57cb9bc61243f0e4eae
CATEGORIES:Allmänt
SUMMARY:Tisdagscafe´ i Kroksjö
LOCATION:Kroksjö byastugan
DESCRIPTION;ENCODING=QUOTED-PRINTABLE:\n\n\n
CONTACT:Kroksjö Byalag Barbro
X-EXTRAINFO:Fika och trevlig gemenskap
DTSTAMP:20260422T101934Z
DTSTART:20190604T133000Z
DTEND:20190604T153000Z
SEQUENCE:0
TRANSP:OPAQUE
END:VEVENT
END:VCALENDAR