BEGIN:VCALENDAR
VERSION:2.0
PRODID:-//jEvents 2.0 for Joomla//EN
CALSCALE:GREGORIAN
METHOD:PUBLISH
BEGIN:VEVENT
UID:0f3ddcebf40ccccb3508fdd88fa82bee
CATEGORIES:Allmänt
SUMMARY:Tavelsjö Halvmarathon
LOCATION:Start vid Tavelsjö Församlingsgård
DESCRIPTION;ENCODING=QUOTED-PRINTABLE:\n\n\n
CONTACT:Den här e-postadressen skyddas mot spambots. Du måste tillåta JavaScript för att se den.
				document.getElementById('cloak030e502c2848c450001a2f23f9f19a20').innerHTML = '';
				var prefix = '&#109;a' + 'i&#108;' + '&#116;o';
				var path = 'hr' + 'ef' + '=';
				var addy030e502c2848c450001a2f23f9f19a20 = 't&#97;v&#101;lsj&#111;h&#97;lvm&#97;r&#97;th&#111;n' + '&#64;';
				addy030e502c2848c450001a2f23f9f19a20 = addy030e502c2848c450001a2f23f9f19a20 + 'gm&#97;&#105;l' + '&#46;' + 'c&#111;m';
				var addy_text030e502c2848c450001a2f23f9f19a20 = 't&#97;v&#101;lsj&#111;h&#97;lvm&#97;r&#97;th&#111;n' + '&#64;' + 'gm&#97;&#105;l' + '&#46;' + 'c&#111;m';document.getElementById('cloak030e502c2848c450001a2f23f9f19a20').innerHTML += ''+addy_text030e502c2848c450001a2f23f9f19a20+'';
		  070-323 64 15
X-EXTRAINFO:För åttonde året i rad kör vi nu Tavelsjö Halvmarathon och glädjande nog ök
 ade antalet deltagare i samtliga lopp i fjol och loppet var mer jämställt ä
 n någonsin. läs mer och anmälan. www.tavelsjohalvmarathon.se
DTSTAMP:20260422T072431Z
DTSTART:20190817T110000Z
DTEND:20190817T150000Z
SEQUENCE:0
TRANSP:OPAQUE
END:VEVENT
END:VCALENDAR