BEGIN:VCALENDAR
VERSION:2.0
PRODID:-//jEvents 2.0 for Joomla//EN
CALSCALE:GREGORIAN
METHOD:PUBLISH
BEGIN:VEVENT
UID:f97190c9d3a0241923b7f494e3d17163
CATEGORIES:Allmänt
SUMMARY:Saab Memorial Hall i Gullsjö
LOCATION:Gullsjö 17 i Vännäs kommun  koordinater: 64.073531   19.837252
DESCRIPTION;ENCODING=QUOTED-PRINTABLE:\n\n\n
CONTACT:Tron Bach hemsida https://www.saabmemorialhall.info/
X-EXTRAINFO:Norrmannen fd. hotellägaren numera författare Tron Bach har öppet hus och v
 isar upp sin exklusiva Saab samling.\nVälkommen till 100 % selvbetjent!\nNj
 ut en privat SAAB samling \npå glesbygden nära Umeå i Västerbotten, norra S
 verige. \nÖppnar 4.8.2019\nI en lada på en gård vid Gullsjö står det 16 Saa
 bar från olika tidsepoker, från 1955-2007.\nHär finns inga nyreonverade kle
 noder, det finns dock bilar som alla har sina märken, sina spår och brister
  efter ett långt liv precis som oss andra. Ett urval skönheter som snart är
  borta från våra vägar för alltid.\nJag som skapat det här är norrman, hete
 r Tron Bach, et homo ludens, och flyttade 2011 till det vackra Gullsjö när 
 jag blev pensionerad efter många hektiska år som hotellägare i Norge. Vid m
 in nya fastighet, bak vedboden hittade jag en övervuxen Saab 92.\nDen gode 
 granne Andreas kom med sin traktor med pallgaffel, vi lyfte bilen ur skogen
  och jag tänkte då den var skräp, den skulle iväg till soptippen. Men så bl
 ev det inte.\nDetta var gården till Saimi og Linus Andersson som jeg nu tar
  vidare med nytt innehold. I ladan där det tidigare fanns kor, korn och hö,
  har vi rensat, städat, ombyggt, målat och fixat. Nu är det Saab Memorial H
 all och 92:an är den första du ser när du kommer inn.\nPå 1990-talet byggde
  jag ett annat museum, "Rallarmuseet" på Finse i Norge, ett minnesmärke öve
 r de duktiga och starka människor, många från Sverige, som bygde jarnvägen 
 mellan Oslo och Bergen åren 1897-1907. Jag har också hämtad litet inspirati
 on därifrån\nInnträde: Kr 50,- Endast betalning med Swisj, du får et fint k
 vitto. Mer info inne i SMH.\nKvinnor och barn har gratis inträ de, bara män
 nen betalar.\n\nAlla medlemmer i Gullsjö byaförening har också gratis inntr
 äde.\n\n
DTSTAMP:20260422T073310Z
DTSTART:20190804T110000Z
DTEND:20190804T160000Z
SEQUENCE:0
TRANSP:OPAQUE
END:VEVENT
END:VCALENDAR