BEGIN:VCALENDAR
VERSION:2.0
PRODID:-//jEvents 2.0 for Joomla//EN
CALSCALE:GREGORIAN
METHOD:PUBLISH
BEGIN:VEVENT
UID:58364bcf5ea64b9be47e6f9f0278cf02
CATEGORIES:Allmänt
SUMMARY:Beställ: Wärdshusets plocktallrik
LOCATION:Strandvägen 25 Tavelsjö
DESCRIPTION;ENCODING=QUOTED-PRINTABLE:\n\n\n
CONTACT:070 243 29 40  |  Email: Den här e-postadressen skyddas mot spambots. Du måste tillåta JavaScript för att se den.
				document.getElementById('cloak31e3f7a0888ad92bedb1d725558de1c2').innerHTML = '';
				var prefix = '&#109;a' + 'i&#108;' + '&#116;o';
				var path = 'hr' + 'ef' + '=';
				var addy31e3f7a0888ad92bedb1d725558de1c2 = '&#105;nf&#111;' + '&#64;';
				addy31e3f7a0888ad92bedb1d725558de1c2 = addy31e3f7a0888ad92bedb1d725558de1c2 + 't&#97;v&#101;lsj&#111;w&#97;rdsh&#117;s' + '&#46;' + 's&#101;';
				var addy_text31e3f7a0888ad92bedb1d725558de1c2 = '&#105;nf&#111;' + '&#64;' + 't&#97;v&#101;lsj&#111;w&#97;rdsh&#117;s' + '&#46;' + 's&#101;';document.getElementById('cloak31e3f7a0888ad92bedb1d725558de1c2').innerHTML += ''+addy_text31e3f7a0888ad92bedb1d725558de1c2+'';
		
X-EXTRAINFO:Blir det melodifestivalen i helgen?\n Glöm inte att fixa plocktallriken til
 l lördagsmyset! \nBoka via mail eller telefon ? Vi hörs!\nDen här e-postadr
 essen skyddas mot spambots. Du måste tillåta JavaScript för att se den.
			
 	document.getElementById('cloak13f0040746edd807536b69de2eb93bcf').innerHTML
  = '';
				var prefix = '&#109;a' + 'i&#108;' + '&#116;o';
				var path = '
 hr' + 'ef' + '=';
				var addy13f0040746edd807536b69de2eb93bcf = '&#105;nf&
 #111;' + '&#64;';
				addy13f0040746edd807536b69de2eb93bcf = addy13f0040746
 edd807536b69de2eb93bcf + 't&#97;v&#101;lsj&#111;w&#97;rdsh&#117;s' + '&#46;
 ' + 's&#101;';
				var addy_text13f0040746edd807536b69de2eb93bcf = '&#105;n
 f&#111;' + '&#64;' + 't&#97;v&#101;lsj&#111;w&#97;rdsh&#117;s' + '&#46;' + 
 's&#101;';document.getElementById('cloak13f0040746edd807536b69de2eb93bcf').
 innerHTML += ''+addy_text13f0040746edd807536b69de2eb93bcf+'';
		\n070243294
 0
DTSTAMP:20260422T213935Z
DTSTART:20210225T110000Z
DTEND:20210225T160000Z
SEQUENCE:0
TRANSP:OPAQUE
END:VEVENT
END:VCALENDAR