BEGIN:VCALENDAR
VERSION:2.0
PRODID:-//jEvents 2.0 for Joomla//EN
CALSCALE:GREGORIAN
METHOD:PUBLISH
BEGIN:VEVENT
UID:1473eaa61a36c21147e7d2efa8237956
CATEGORIES:Allmänt
SUMMARY:Alla hjärtans middag Wärdshuset
LOCATION:Strandvägen 25 Tavelsjö
DESCRIPTION;ENCODING=QUOTED-PRINTABLE:\n\n\n
CONTACT:070 243 29 40  |  Email: Den här e-postadressen skyddas mot spambots. Du måste tillåta JavaScript för att se den.
				document.getElementById('cloaka0ba4170addea34b885c380b8904fc1a').innerHTML = '';
				var prefix = '&#109;a' + 'i&#108;' + '&#116;o';
				var path = 'hr' + 'ef' + '=';
				var addya0ba4170addea34b885c380b8904fc1a = '&#105;nf&#111;' + '&#64;';
				addya0ba4170addea34b885c380b8904fc1a = addya0ba4170addea34b885c380b8904fc1a + 't&#97;v&#101;lsj&#111;w&#97;rdsh&#117;s' + '&#46;' + 's&#101;';
				var addy_texta0ba4170addea34b885c380b8904fc1a = '&#105;nf&#111;' + '&#64;' + 't&#97;v&#101;lsj&#111;w&#97;rdsh&#117;s' + '&#46;' + 's&#101;';document.getElementById('cloaka0ba4170addea34b885c380b8904fc1a').innerHTML += ''+addy_texta0ba4170addea34b885c380b8904fc1a+'';
		
X-EXTRAINFO:Fira alla hjärtans dag på bästa sätt i en underbar miljö på Tavelsjö Wärdsh
 us. I närheten av Wärdshuset finns många fina områden där man kan promenera
  eller låna en spark och åka en sväng. Vi fixar sedan maten och har en spec
 iell meny för just alla hjärtans dag.\nÄter ni hellre hemma? Då ordnar vi e
 n alla hjärtanspåse till er. I den förbereder vi maten så långt det går och
  låter dig göra de sista avslutande stegen hemma i köket, instruktioner med
 följer. \nMeny:\nHalstrad pilgrimsmussla med champagneskum\nUgnsbakad rödin
 g med rökt laxmousse, sötsyrlig gurka, blomkålscreme och hummersås\nHallonp
 annacotta med chokladkringla\nPris 495:- / person\nBoka ditt bord eller en 
 påse via mail eller telefon.\nDen här e-postadressen skyddas mot spambots. 
 Du måste tillåta JavaScript för att se den.
				document.getElementById('cl
 oak74a333461acc1e41dc4ca74bd0435463').innerHTML = '';
				var prefix = '&#1
 09;a' + 'i&#108;' + '&#116;o';
				var path = 'hr' + 'ef' + '=';
				var ad
 dy74a333461acc1e41dc4ca74bd0435463 = '&#105;nf&#111;' + '&#64;';
				addy74
 a333461acc1e41dc4ca74bd0435463 = addy74a333461acc1e41dc4ca74bd0435463 + 't&
 #97;v&#101;lsj&#111;w&#97;rdsh&#117;s' + '&#46;' + 's&#101;';
				var addy_
 text74a333461acc1e41dc4ca74bd0435463 = '&#105;nf&#111;' + '&#64;' + 't&#97;
 v&#101;lsj&#111;w&#97;rdsh&#117;s' + '&#46;' + 's&#101;';document.getElemen
 tById('cloak74a333461acc1e41dc4ca74bd0435463').innerHTML += ''+addy_text74a
 333461acc1e41dc4ca74bd0435463+'';
		\n0702432940
DTSTAMP:20260422T212852Z
DTSTART:20210214T110000Z
DTEND:20210214T180000Z
SEQUENCE:0
TRANSP:OPAQUE
END:VEVENT
END:VCALENDAR