BEGIN:VCALENDAR
VERSION:2.0
PRODID:-//jEvents 2.0 for Joomla//EN
CALSCALE:GREGORIAN
METHOD:PUBLISH
BEGIN:VEVENT
UID:25a8e6e90c7bc557fef193dae050678d
CATEGORIES:Allmänt
SUMMARY:Wärdshuset alla hjärtans middag
LOCATION:Strandvägen 25 Tavelsjö
DESCRIPTION;ENCODING=QUOTED-PRINTABLE:\n\n\n
CONTACT:070 243 29 40  |  Email: Den här e-postadressen skyddas mot spambots. Du måste tillåta JavaScript för att se den.
				document.getElementById('cloak39569e58d0383e0b178782d7384ecefc').innerHTML = '';
				var prefix = '&#109;a' + 'i&#108;' + '&#116;o';
				var path = 'hr' + 'ef' + '=';
				var addy39569e58d0383e0b178782d7384ecefc = '&#105;nf&#111;' + '&#64;';
				addy39569e58d0383e0b178782d7384ecefc = addy39569e58d0383e0b178782d7384ecefc + 't&#97;v&#101;lsj&#111;w&#97;rdsh&#117;s' + '&#46;' + 's&#101;';
				var addy_text39569e58d0383e0b178782d7384ecefc = '&#105;nf&#111;' + '&#64;' + 't&#97;v&#101;lsj&#111;w&#97;rdsh&#117;s' + '&#46;' + 's&#101;';document.getElementById('cloak39569e58d0383e0b178782d7384ecefc').innerHTML += ''+addy_text39569e58d0383e0b178782d7384ecefc+'';
		
X-EXTRAINFO:Fira alla hjärtans dag på bästa sätt i en underbar miljö på Tavelsjö Wärdsh
 us. I närheten av Wärdshuset finns många fina områden där man kan promenera
  eller låna en spark och åka en sväng. Vi fixar sedan maten och har en spec
 iell meny för just alla hjärtans dag.\nÄter ni hellre hemma? Då ordnar vi e
 n alla hjärtanspåse till er. I den förbereder vi maten så långt det går och
  låter dig göra de sista avslutande stegen hemma i köket, instruktioner med
 följer. \nMeny:\nHalstrad pilgrimsmussla med champagneskum\nUgnsbakad rödin
 g med rökt laxmousse, sötsyrlig gurka, blomkålscreme och hummersås\nHallonp
 annacotta med chokladkringla\nPris 495:- / person\nBoka ditt bord eller en 
 påse via mail eller telefon.\nDen här e-postadressen skyddas mot spambots. 
 Du måste tillåta JavaScript för att se den.
				document.getElementById('cl
 oak43a364962299a4af7d6fd2cbd49b7af2').innerHTML = '';
				var prefix = '&#1
 09;a' + 'i&#108;' + '&#116;o';
				var path = 'hr' + 'ef' + '=';
				var ad
 dy43a364962299a4af7d6fd2cbd49b7af2 = '&#105;nf&#111;' + '&#64;';
				addy43
 a364962299a4af7d6fd2cbd49b7af2 = addy43a364962299a4af7d6fd2cbd49b7af2 + 't&
 #97;v&#101;lsj&#111;w&#97;rdsh&#117;s' + '&#46;' + 's&#101;';
				var addy_
 text43a364962299a4af7d6fd2cbd49b7af2 = '&#105;nf&#111;' + '&#64;' + 't&#97;
 v&#101;lsj&#111;w&#97;rdsh&#117;s' + '&#46;' + 's&#101;';document.getElemen
 tById('cloak43a364962299a4af7d6fd2cbd49b7af2').innerHTML += ''+addy_text43a
 364962299a4af7d6fd2cbd49b7af2+'';
		\n0702432940
DTSTAMP:20260422T230446Z
DTSTART:20210211T080000Z
DTEND:20210211T170000Z
SEQUENCE:0
TRANSP:OPAQUE
END:VEVENT
END:VCALENDAR