BEGIN:VCALENDAR
VERSION:2.0
PRODID:-//jEvents 2.0 for Joomla//EN
CALSCALE:GREGORIAN
METHOD:PUBLISH
BEGIN:VEVENT
UID:17e6ec1cc8d75d5f4973314d46a28298
CATEGORIES:Allmänt
SUMMARY:Boka slädtur med häst & afternoon tea
LOCATION:Strandvägen 25 Tavelsjö
DESCRIPTION;ENCODING=QUOTED-PRINTABLE:\n\n\n
CONTACT:070 243 29 40  |  Email: Den här e-postadressen skyddas mot spambots. Du måste tillåta JavaScript för att se den.
				document.getElementById('cloakf411c01c5f3c8ebde24649e49718a825').innerHTML = '';
				var prefix = '&#109;a' + 'i&#108;' + '&#116;o';
				var path = 'hr' + 'ef' + '=';
				var addyf411c01c5f3c8ebde24649e49718a825 = '&#105;nf&#111;' + '&#64;';
				addyf411c01c5f3c8ebde24649e49718a825 = addyf411c01c5f3c8ebde24649e49718a825 + 't&#97;v&#101;lsj&#111;w&#97;rdsh&#117;s' + '&#46;' + 's&#101;';
				var addy_textf411c01c5f3c8ebde24649e49718a825 = '&#105;nf&#111;' + '&#64;' + 't&#97;v&#101;lsj&#111;w&#97;rdsh&#117;s' + '&#46;' + 's&#101;';document.getElementById('cloakf411c01c5f3c8ebde24649e49718a825').innerHTML += ''+addy_textf411c01c5f3c8ebde24649e49718a825+'';
		
X-EXTRAINFO:Camilla från Långvikens Gård börja köra häst med släde med start på Wärdshu
 set under jämna veckor. All bokning sker via oss på Wärdshuset via mail ell
 er telefon. Vill du ha en slädtur med lite extra gott kan du kombinera en s
 lädtur med avslutande afternoon tea inne i värmen hos oss.\nDen här e-posta
 dressen skyddas mot spambots. Du måste tillåta JavaScript för att se den.
	
 			document.getElementById('cloakcb8dfdc88703675c2f8263e51a8547fa').innerHT
 ML = '';
				var prefix = '&#109;a' + 'i&#108;' + '&#116;o';
				var path =
  'hr' + 'ef' + '=';
				var addycb8dfdc88703675c2f8263e51a8547fa = '&#105;n
 f&#111;' + '&#64;';
				addycb8dfdc88703675c2f8263e51a8547fa = addycb8dfdc8
 8703675c2f8263e51a8547fa + 't&#97;v&#101;lsj&#111;w&#97;rdsh&#117;s' + '&#4
 6;' + 's&#101;';
				var addy_textcb8dfdc88703675c2f8263e51a8547fa = '&#105
 ;nf&#111;' + '&#64;' + 't&#97;v&#101;lsj&#111;w&#97;rdsh&#117;s' + '&#46;' 
 + 's&#101;';document.getElementById('cloakcb8dfdc88703675c2f8263e51a8547fa'
 ).innerHTML += ''+addy_textcb8dfdc88703675c2f8263e51a8547fa+'';
		\n0702432
 940
DTSTAMP:20260422T165605Z
DTSTART:20210130T110000Z
DTEND:20210130T170000Z
SEQUENCE:0
TRANSP:OPAQUE
END:VEVENT
END:VCALENDAR