BEGIN:VCALENDAR
VERSION:2.0
PRODID:-//jEvents 2.0 for Joomla//EN
CALSCALE:GREGORIAN
METHOD:PUBLISH
BEGIN:VEVENT
UID:e5c35c9394c3c7238a0e4fd85f3cd93c
CATEGORIES:Allmänt
SUMMARY:Wärdshusets utflyktspåse
LOCATION:Strandvägen 25 Tavelsjö
DESCRIPTION;ENCODING=QUOTED-PRINTABLE:\n\n\n
CONTACT:070 243 29 40  |  Email: Den här e-postadressen skyddas mot spambots. Du måste tillåta JavaScript för att se den.
				document.getElementById('cloak455e28235a36b2545a36ea5d628111f2').innerHTML = '';
				var prefix = '&#109;a' + 'i&#108;' + '&#116;o';
				var path = 'hr' + 'ef' + '=';
				var addy455e28235a36b2545a36ea5d628111f2 = '&#105;nf&#111;' + '&#64;';
				addy455e28235a36b2545a36ea5d628111f2 = addy455e28235a36b2545a36ea5d628111f2 + 't&#97;v&#101;lsj&#111;w&#97;rdsh&#117;s' + '&#46;' + 's&#101;';
				var addy_text455e28235a36b2545a36ea5d628111f2 = '&#105;nf&#111;' + '&#64;' + 't&#97;v&#101;lsj&#111;w&#97;rdsh&#117;s' + '&#46;' + 's&#101;';document.getElementById('cloak455e28235a36b2545a36ea5d628111f2').innerHTML += ''+addy_text455e28235a36b2545a36ea5d628111f2+'';
		
X-EXTRAINFO:Hej allesammans! \nLite nyheter på Wärdshuset från och med fredag är vår gr
 illpåse & utflyktspåse!\nVintern är enligt oss en fantastisk årstid att var
 a utomhus, och att grilla eller ha med en matsäck gör det bara bättre.\nGri
 llpåsen innehåller två stycken hamburgare med bröd, dressing, picklad rödlö
 k och sallad. Pris 125:-\nUtflyktspåsen innehåller ostmacka, chokladboll, a
 pelsin och varm choklad eller kaffe pris 95:-\nBokning för påsarna öppnar p
 å fredag klockan 9 och beställs via telefon på nummer 070-243 29 40. \nVi h
 örs!
DTSTAMP:20260422T212812Z
DTSTART:20210205T110000Z
DTEND:20210205T180000Z
SEQUENCE:0
TRANSP:OPAQUE
END:VEVENT
END:VCALENDAR