BEGIN:VCALENDAR
VERSION:2.0
PRODID:-//jEvents 2.0 for Joomla//EN
CALSCALE:GREGORIAN
METHOD:PUBLISH
BEGIN:VEVENT
UID:46090401aa7cf7aad0d85227b657c3a1
CATEGORIES:Allmänt
SUMMARY:Wärdshuset helgpåsar
LOCATION:Strandvägen 25 Tavelsjö
DESCRIPTION;ENCODING=QUOTED-PRINTABLE:\n\n\n
CONTACT:070 243 29 40  |  Email: Den här e-postadressen skyddas mot spambots. Du måste tillåta JavaScript för att se den.
				document.getElementById('cloak958423caa6664decc6bbd60fa36d7d36').innerHTML = '';
				var prefix = '&#109;a' + 'i&#108;' + '&#116;o';
				var path = 'hr' + 'ef' + '=';
				var addy958423caa6664decc6bbd60fa36d7d36 = '&#105;nf&#111;' + '&#64;';
				addy958423caa6664decc6bbd60fa36d7d36 = addy958423caa6664decc6bbd60fa36d7d36 + 't&#97;v&#101;lsj&#111;w&#97;rdsh&#117;s' + '&#46;' + 's&#101;';
				var addy_text958423caa6664decc6bbd60fa36d7d36 = '&#105;nf&#111;' + '&#64;' + 't&#97;v&#101;lsj&#111;w&#97;rdsh&#117;s' + '&#46;' + 's&#101;';document.getElementById('cloak958423caa6664decc6bbd60fa36d7d36').innerHTML += ''+addy_text958423caa6664decc6bbd60fa36d7d36+'';
		
X-EXTRAINFO:Jätteroligt att se intresset för våra helgpåsar, vi fortsätter tuffa vidare
  och här kan ni se innehållet i denna veckas påsar!\nFredagspåsen kostar 44
 9:- / 2 personer.\nFamiljepåsen kostar 269:- / påse och är lagom till två v
 uxna och två barn.\nBoka senast på torsdag klockan 12 för att hinna få din 
 påse till fredagen. Upphämtning sker mellan klockan 12-16 fredag på Wärdshu
 set eller mellan 14-19 på Ica Hissjö.\nVi tar emot bokningar via mail och t
 elefon på följande adress och nummer.\nDen här e-postadressen skyddas mot s
 pambots. Du måste tillåta JavaScript för att se den.
				document.getElemen
 tById('cloaka07b8f7f196f49c9e4ca3579e0ffc2d8').innerHTML = '';
				var pref
 ix = '&#109;a' + 'i&#108;' + '&#116;o';
				var path = 'hr' + 'ef' + '=';
	
 			var addya07b8f7f196f49c9e4ca3579e0ffc2d8 = '&#105;nf&#111;' + '&#64;';
	
 			addya07b8f7f196f49c9e4ca3579e0ffc2d8 = addya07b8f7f196f49c9e4ca3579e0ffc
 2d8 + 't&#97;v&#101;lsj&#111;w&#97;rdsh&#117;s' + '&#46;' + 's&#101;';
				
 var addy_texta07b8f7f196f49c9e4ca3579e0ffc2d8 = '&#105;nf&#111;' + '&#64;' 
 + 't&#97;v&#101;lsj&#111;w&#97;rdsh&#117;s' + '&#46;' + 's&#101;';document.
 getElementById('cloaka07b8f7f196f49c9e4ca3579e0ffc2d8').innerHTML += ''+add
 y_texta07b8f7f196f49c9e4ca3579e0ffc2d8+'';
		\n0702432940\nHa en fin vecka!
  ⛅
DTSTAMP:20260422T171038Z
DTSTART:20210120T080000Z
DTEND:20210120T170000Z
SEQUENCE:0
TRANSP:OPAQUE
END:VEVENT
END:VCALENDAR