BEGIN:VCALENDAR
VERSION:2.0
PRODID:-//jEvents 2.0 for Joomla//EN
CALSCALE:GREGORIAN
METHOD:PUBLISH
BEGIN:VEVENT
UID:919c66653027af83bdc34e18d791073d
CATEGORIES:Allmänt
SUMMARY:Wärdshusets  brunchpåsen till helgen
LOCATION:Strandvägen 25 Tavelsjö
DESCRIPTION;ENCODING=QUOTED-PRINTABLE:\n\n\n
CONTACT:070 243 29 40  |  Email: Den här e-postadressen skyddas mot spambots. Du måste tillåta JavaScript för att se den.
				document.getElementById('cloake3fdc06b2446c9aaa3c0a1f405c3b6c0').innerHTML = '';
				var prefix = '&#109;a' + 'i&#108;' + '&#116;o';
				var path = 'hr' + 'ef' + '=';
				var addye3fdc06b2446c9aaa3c0a1f405c3b6c0 = '&#105;nf&#111;' + '&#64;';
				addye3fdc06b2446c9aaa3c0a1f405c3b6c0 = addye3fdc06b2446c9aaa3c0a1f405c3b6c0 + 't&#97;v&#101;lsj&#111;w&#97;rdsh&#117;s' + '&#46;' + 's&#101;';
				var addy_texte3fdc06b2446c9aaa3c0a1f405c3b6c0 = '&#105;nf&#111;' + '&#64;' + 't&#97;v&#101;lsj&#111;w&#97;rdsh&#117;s' + '&#46;' + 's&#101;';document.getElementById('cloake3fdc06b2446c9aaa3c0a1f405c3b6c0').innerHTML += ''+addy_texte3fdc06b2446c9aaa3c0a1f405c3b6c0+'';
		
X-EXTRAINFO:i missar väl inte brunchpåsen till helgen? Du beställer påsen och vi packar
  den med alla tillbehör. Välj att hämta på lördag eller söndag mellan klock
 an 10-11. Eller välj att få den hemlevererad av oss ?\nDenna vecka innehåll
 er påsen:\nBrieost & Chevre\nTe från Kahls, Avion Umeå\nWärdshusets tomatma
 rmelad & fikonmarmelad\nDruvor, ananas, melon\nMjällom kex, fralla\nVarmrök
 t laxcreme, charkuterier\nRotselleri med rostad mandel och grana padano\nOm
 elett med grönt & örter\nSallad med vinegrette\nKokostopp, lingonmuffins\nP
 ris per påse är 349:- och den är lagom till omkring två personer.\nLägg din
  beställning på\n070-243 29 40\nDen här e-postadressen skyddas mot spambots
 . Du måste tillåta JavaScript för att se den.
				document.getElementById('
 cloak90a0848209783bd3853da504f0b61f2c').innerHTML = '';
				var prefix = '&
 #109;a' + 'i&#108;' + '&#116;o';
				var path = 'hr' + 'ef' + '=';
				var 
 addy90a0848209783bd3853da504f0b61f2c = '&#105;nf&#111;' + '&#64;';
				addy
 90a0848209783bd3853da504f0b61f2c = addy90a0848209783bd3853da504f0b61f2c + '
 t&#97;v&#101;lsj&#111;w&#97;rdsh&#117;s' + '&#46;' + 's&#101;';
				var add
 y_text90a0848209783bd3853da504f0b61f2c = '&#105;nf&#111;' + '&#64;' + 't&#9
 7;v&#101;lsj&#111;w&#97;rdsh&#117;s' + '&#46;' + 's&#101;';document.getElem
 entById('cloak90a0848209783bd3853da504f0b61f2c').innerHTML += ''+addy_text9
 0a0848209783bd3853da504f0b61f2c+'';
		\nVi hörs!
DTSTAMP:20260422T230446Z
DTSTART:20210122T110000Z
DTEND:20210122T180000Z
SEQUENCE:0
TRANSP:OPAQUE
END:VEVENT
END:VCALENDAR