BEGIN:VCALENDAR
VERSION:2.0
PRODID:-//jEvents 2.0 for Joomla//EN
CALSCALE:GREGORIAN
METHOD:PUBLISH
BEGIN:VEVENT
UID:955656a7c5b32e591d7888e4bc73708b
CATEGORIES:Allmänt
SUMMARY:Root tillfälligt stängt
LOCATION:Sundlingska gården
DESCRIPTION;ENCODING=QUOTED-PRINTABLE:\n\n\n
CONTACT: Den här e-postadressen skyddas mot spambots. Du måste tillåta JavaScript för att se den.
				document.getElementById('cloak775a65a98dc40f9779d40091829174ca').innerHTML = '';
				var prefix = '&#109;a' + 'i&#108;' + '&#116;o';
				var path = 'hr' + 'ef' + '=';
				var addy775a65a98dc40f9779d40091829174ca = 'h&#101;ll&#111;' + '&#64;';
				addy775a65a98dc40f9779d40091829174ca = addy775a65a98dc40f9779d40091829174ca + 'w&#101;&#97;r&#101;r&#111;&#111;t' + '&#46;' + 's&#101;';
				var addy_text775a65a98dc40f9779d40091829174ca = 'h&#101;ll&#111;' + '&#64;' + 'w&#101;&#97;r&#101;r&#111;&#111;t' + '&#46;' + 's&#101;';document.getElementById('cloak775a65a98dc40f9779d40091829174ca').innerHTML += ''+addy_text775a65a98dc40f9779d40091829174ca+'';
		 | 070-309 1848
X-EXTRAINFO:Tillfälligt stängt\nHej Rootytooters. Vi har tyvärr fått den tråkiga nyhete
 n att en av våra kollegor, Dan, har testat positivt för Covid-19. Han har s
 jälvisolerat hemma sedan han fick symptom på onsdag kväll. Dan testade sig 
 på torsdag morgon och fick idag (fre 8 jan) ett snabbt, men tyvärr positivt
 , provsvar. Vi har sedan dess varit i kontakt med region Västerbotten och d
 eras smittspårare och följer deras råd.\n\nSom många av er vet så planerar 
 vi långsiktigt här i Tavelsjö och har bestämt att det är bäst att vara på d
 en säkra sidan och därmed stänga Root nu på en gång temporärt.\n\nVi i team
 et kommer nu att vila upp oss och testa oss enligt rekommendationer från sm
 ittspårningen, och öppnar igen när Dan och resten av teamet är friska och k
 rya.\n\nVi kommer att sakna er.
DTSTAMP:20260422T212847Z
DTSTART:20210109T090000Z
DTEND:20210109T190000Z
SEQUENCE:0
TRANSP:OPAQUE
END:VEVENT
END:VCALENDAR