BEGIN:VCALENDAR
VERSION:2.0
PRODID:-//jEvents 2.0 for Joomla//EN
CALSCALE:GREGORIAN
METHOD:PUBLISH
BEGIN:VEVENT
UID:7c61befcbc753a064962afe613383161
CATEGORIES:Allmänt
SUMMARY:Root på Sundlingska Gården
LOCATION:Sundlingska gården
DESCRIPTION;ENCODING=QUOTED-PRINTABLE:\n\n\n
CONTACT: Den här e-postadressen skyddas mot spambots. Du måste tillåta JavaScript för att se den.
				document.getElementById('cloak4625aff2cc11fa72e7b4c86b001db905').innerHTML = '';
				var prefix = '&#109;a' + 'i&#108;' + '&#116;o';
				var path = 'hr' + 'ef' + '=';
				var addy4625aff2cc11fa72e7b4c86b001db905 = 'h&#101;ll&#111;' + '&#64;';
				addy4625aff2cc11fa72e7b4c86b001db905 = addy4625aff2cc11fa72e7b4c86b001db905 + 'w&#101;&#97;r&#101;r&#111;&#111;t' + '&#46;' + 's&#101;';
				var addy_text4625aff2cc11fa72e7b4c86b001db905 = 'h&#101;ll&#111;' + '&#64;' + 'w&#101;&#97;r&#101;r&#111;&#111;t' + '&#46;' + 's&#101;';document.getElementById('cloak4625aff2cc11fa72e7b4c86b001db905').innerHTML += ''+addy_text4625aff2cc11fa72e7b4c86b001db905+'';
		 | 070-309 1848
X-EXTRAINFO:Vinter öppetider, från v1:\nOns & Tors kl 9-18, \nFre-Sön kl 9-19\nRoot hem
 ma: takeaway pizza, surdegsbröd & kaffe, \nbrunch direkt till dörren -
DTSTAMP:20260422T165611Z
DTSTART:20210106T090000Z
DTEND:20210106T180000Z
SEQUENCE:0
TRANSP:OPAQUE
END:VEVENT
END:VCALENDAR