BEGIN:VCALENDAR
VERSION:2.0
PRODID:-//jEvents 2.0 for Joomla//EN
CALSCALE:GREGORIAN
METHOD:PUBLISH
BEGIN:VEVENT
UID:1168adb2e29c9ff68c92380a4f5331bc
CATEGORIES:Allmänt
SUMMARY:Boka Åsas middag trettondagsafton
LOCATION:Rödåsel 99
DESCRIPTION;ENCODING=QUOTED-PRINTABLE:\n\n\n
CONTACT:Åsa 070-6312052 sms & telefonsamtal.
X-EXTRAINFO:Vi erbjuder en 3- rätters trettondagsmiddag som take-away med enkla instruk
 tioner.Hämta här hos oss i Rödåsel 99 på trettondagsafton den 5/1 kl 15-17V
 i önskar er bokning senast den 3 /1\nBoka på telefon 070-6320521 sms eller 
 röstsamtal?\nFörrätt:\nSkaldjurssoppa med vitt vin, örter & rostad paprika 
 \nVästerbottensost bröd \nVarmrätt:\nDubbelmarinerad oxfilé med kapris, vit
 lök & timjan (som serveras kall /rumstempererad)\nGrönpepparsås, fyllda & g
 ratinerade potatishalvor.\nPepparaioli\nNyårssallad \nDessert:\nChokladterr
 ine i tre smaker med syltade hallon & sockerrostad mandel.\n375:-/ port ink
 l moms
DTSTAMP:20260422T165610Z
DTSTART:20210104T080000Z
DTEND:20210104T170000Z
SEQUENCE:0
TRANSP:OPAQUE
END:VEVENT
END:VCALENDAR