BEGIN:VCALENDAR
VERSION:2.0
PRODID:-//jEvents 2.0 for Joomla//EN
CALSCALE:GREGORIAN
METHOD:PUBLISH
BEGIN:VEVENT
UID:e5358ec5e75d5b3f319295c0d6751810
CATEGORIES:Allmänt
SUMMARY:Boka din nyårsmiddag på Tavelsjö Wärdshus
LOCATION:Strandvägen 25 Tavelsjö
DESCRIPTION;ENCODING=QUOTED-PRINTABLE:\n\n\n
CONTACT:070 243 29 40  |  Email: Den här e-postadressen skyddas mot spambots. Du måste tillåta JavaScript för att se den.
				document.getElementById('cloak987dd2575befb51e2b0168ef5b971a31').innerHTML = '';
				var prefix = '&#109;a' + 'i&#108;' + '&#116;o';
				var path = 'hr' + 'ef' + '=';
				var addy987dd2575befb51e2b0168ef5b971a31 = '&#105;nf&#111;' + '&#64;';
				addy987dd2575befb51e2b0168ef5b971a31 = addy987dd2575befb51e2b0168ef5b971a31 + 't&#97;v&#101;lsj&#111;w&#97;rdsh&#117;s' + '&#46;' + 's&#101;';
				var addy_text987dd2575befb51e2b0168ef5b971a31 = '&#105;nf&#111;' + '&#64;' + 't&#97;v&#101;lsj&#111;w&#97;rdsh&#117;s' + '&#46;' + 's&#101;';document.getElementById('cloak987dd2575befb51e2b0168ef5b971a31').innerHTML += ''+addy_text987dd2575befb51e2b0168ef5b971a31+'';
		
X-EXTRAINFO: Vår nyårspåse ger dig enkla instruktioner att följa för en fantastisk nyår
 smiddag. Beställ din påse via mail eller telefon, din påse är färdig och re
 do för upphämtning onsdag den 30'e december mellan klockan 12-15. Boka påse
 n före den 28 december.\nMeny:\nJordärtkockssoppa med halstrad pilgrimsmuss
 la, picklad silverlök och crostini\nOxfilé med potatiskaka, rödvinssås, ros
 tade rotsaker och grönkålschips\nBourbonkaka med vispad vaniljcréme och hjo
 rtronkompott\n495:- / person\nBoka din nyårsmiddag på Tavelsjö Wärdshus i å
 r!
DTSTAMP:20260422T152411Z
DTSTART:20201226T080000Z
DTEND:20201226T170000Z
SEQUENCE:0
TRANSP:OPAQUE
END:VEVENT
END:VCALENDAR