BEGIN:VCALENDAR
VERSION:2.0
PRODID:-//jEvents 2.0 for Joomla//EN
CALSCALE:GREGORIAN
METHOD:PUBLISH
BEGIN:VEVENT
UID:45601f3a66079ac3ff94fe20f95c7c73
CATEGORIES:Allmänt
SUMMARY:Blåeld stängt
LOCATION:Strandvägen 25 Tavelsjö
DESCRIPTION;ENCODING=QUOTED-PRINTABLE:\n\n\n
CONTACT: 070-309 1848
X-EXTRAINFO:Blåeld stänger för jul och ledighet till den 23 januari\nVälkomna i slutet 
 av Januari.
DTSTAMP:20260422T230440Z
DTSTART:20210116T120000Z
DTEND:20210116T150000Z
SEQUENCE:0
TRANSP:OPAQUE
END:VEVENT
END:VCALENDAR