BEGIN:VCALENDAR
VERSION:2.0
PRODID:-//jEvents 2.0 for Joomla//EN
CALSCALE:GREGORIAN
METHOD:PUBLISH
BEGIN:VEVENT
UID:a899e55d0303f00b74850420fc4c15bf
CATEGORIES:Allmänt
SUMMARY:Root julöppet
LOCATION:Sundlingska gården
DESCRIPTION;ENCODING=QUOTED-PRINTABLE:\n\n\n
CONTACT: 070-309 1848
X-EXTRAINFO:Här är våra öppettider under jul & nyår.\nVi kommer att ha extraöppet 21-23
  december då vi även serverar vår Rootytooty-brunch, som också serveras 1-3
  januari.\n Under vecka 53 kommer menyn bestå av era favoritpizzor från vår
 t första år på Root ?
DTSTAMP:20260422T152306Z
DTSTART:20201223T090000Z
DTEND:20201223T180000Z
SEQUENCE:0
TRANSP:OPAQUE
END:VEVENT
END:VCALENDAR