BEGIN:VCALENDAR
VERSION:2.0
PRODID:-//jEvents 2.0 for Joomla//EN
CALSCALE:GREGORIAN
METHOD:PUBLISH
BEGIN:VEVENT
UID:f489bb5a66e99b6ce8f075884f90a001
CATEGORIES:Allmänt
SUMMARY:Blomhyllan Handelsträdgård
LOCATION:Tavelsjövägen 14
DESCRIPTION;ENCODING=QUOTED-PRINTABLE:\n\n\n
X-EXTRAINFO:Nu har jag öppet Lördagar och Söndagar fram till 20:e December, \n12-16 båd
 a dagarna.\nVälkomna ?
DTSTAMP:20260422T121705Z
DTSTART:20201219T120000Z
DTEND:20201219T160000Z
SEQUENCE:0
TRANSP:OPAQUE
END:VEVENT
END:VCALENDAR