BEGIN:VCALENDAR
VERSION:2.0
PRODID:-//jEvents 2.0 for Joomla//EN
CALSCALE:GREGORIAN
METHOD:PUBLISH
BEGIN:VEVENT
UID:d9abdee6c5debab3677d4903f25af83a
CATEGORIES:Allmänt
SUMMARY:Syjunta & Hantverksgille, sista träffen för i vår
LOCATION:Överrödå Byastuga
DESCRIPTION;ENCODING=QUOTED-PRINTABLE:\n\nPå lördag är vårens sista träff av Syjunta & Hantverksgille. Välkommen 
 med ditt handarbete/hantverk/pyssel. Fika och trevlig gemenskap. Sen hoppas
  vi ses igen i september, då återgår vi till "tredje lördagen i månaden"!\n
CONTACT:Anita Nilsson 070 - 289 31 93
DTSTAMP:20260422T195747Z
DTSTART:20260425T123000Z
DTEND:20260425T153000Z
SEQUENCE:0
TRANSP:OPAQUE
END:VEVENT
END:VCALENDAR