BEGIN:VCALENDAR
VERSION:2.0
PRODID:-//jEvents 2.0 for Joomla//EN
CALSCALE:GREGORIAN
METHOD:PUBLISH
BEGIN:VEVENT
UID:42aac2f46e435d00c2aa760d16d97b42
CATEGORIES:Allmänt
SUMMARY:Modevisning Wärdshuset
LOCATION:Strandvägen 25 Tavelsjö
DESCRIPTION;ENCODING=QUOTED-PRINTABLE:\n\nBoka här: https://www.xn--tavelsjwrdshus-dib00a.se/event-details/modesv
 isning-varen-sommarens-nyheter-fran-modemix\n\n\n\n
CONTACT:Boka dina biljetter via hemsidan. Mail: Den här e-postadressen skyddas mot spambots. Du måste tillåta JavaScript för att se den.
				document.getElementById('cloak96589aecef2e035dcdbb67a5ea942432').innerHTML = '';
				var prefix = '&#109;a' + 'i&#108;' + '&#116;o';
				var path = 'hr' + 'ef' + '=';
				var addy96589aecef2e035dcdbb67a5ea942432 = '&#105;nf&#111;' + '&#64;';
				addy96589aecef2e035dcdbb67a5ea942432 = addy96589aecef2e035dcdbb67a5ea942432 + 't&#97;v&#101;lsj&#111;w&#97;rdsh&#117;s' + '&#46;' + 's&#101;';
				var addy_text96589aecef2e035dcdbb67a5ea942432 = '&#105;nf&#111;' + '&#64;' + 't&#97;v&#101;lsj&#111;w&#97;rdsh&#117;s' + '&#46;' + 's&#101;';document.getElementById('cloak96589aecef2e035dcdbb67a5ea942432').innerHTML += ''+addy_text96589aecef2e035dcdbb67a5ea942432+'';
		 Mobil: 070 24 32 940
X-EXTRAINFO:Under kvällen får ni ta del av vårens & sommarens kollektion från Modemix!\
 nNjut av en trevlig samvaro under kvällen med ett glas alkoholfritt bubbel 
 och plockmat som serveras av Wärdshuset\n-------------*--------------\nAlla
  som köper en biljett är med på utlottning av presentkort hos Modemix.\n\nP
 ris: 195 kr Visa mindrese länk
DTSTAMP:20260424T030154Z
DTSTART:20260512T173000Z
DTEND:20260512T200000Z
SEQUENCE:0
TRANSP:OPAQUE
END:VEVENT
END:VCALENDAR