BEGIN:VCALENDAR
VERSION:2.0
PRODID:-//jEvents 2.0 for Joomla//EN
CALSCALE:GREGORIAN
METHOD:PUBLISH
BEGIN:VEVENT
UID:355fd34dd717b289f6ccd10337dd6098
CATEGORIES:Allmänt
SUMMARY:SPF Norra årsmöte
LOCATION:Tavelsjö Bygdegård
DESCRIPTION;ENCODING=QUOTED-PRINTABLE:\n\n\n
X-EXTRAINFO:Årsmöte SPF Seniorerna Umeå Norra 2026\nSPF Seniorerna Umeå Norra kallar ti
 ll årsmöte\ntisdag 17 februari kl 13.00 i Tavelsjö Bygdegård.\nFöreningen b
 juder på semla.\nLotterier och dragning på motionskort.\nÅrsmötesförhandlin
 gar, information om resor och planerade aktiviteter.\n\nHandlingarna inför 
 årsmötet finns tillgängliga på föreningens hemsida\nsenast 3 februari samt 
 hos ordförande och sekreterare.\nÅrsmöteshandlingar 2026\nMotion till årsmö
 tet skickas senast 20 januari till epost: Den här e-postadressen skyddas mo
 t spambots. Du måste tillåta JavaScript för att se den.
				document.getEle
 mentById('cloakc0f82070d5356dd989f13e9b30800e7f').innerHTML = '';
				var p
 refix = '&#109;a' + 'i&#108;' + '&#116;o';
				var path = 'hr' + 'ef' + '='
 ;
				var addyc0f82070d5356dd989f13e9b30800e7f = '&#117;m&#101;&#97;n&#111;
 rr&#97;' + '&#64;';
				addyc0f82070d5356dd989f13e9b30800e7f = addyc0f82070
 d5356dd989f13e9b30800e7f + 'spfs&#101;n&#105;&#111;r&#101;rn&#97;' + '&#46;
 ' + 's&#101;';
				var addy_textc0f82070d5356dd989f13e9b30800e7f = '&#117;m
 &#101;&#97;n&#111;rr&#97;' + '&#64;' + 'spfs&#101;n&#105;&#111;r&#101;rn&#9
 7;' + '&#46;' + 's&#101;';document.getElementById('cloakc0f82070d5356dd989f
 13e9b30800e7f').innerHTML += ''+addy_textc0f82070d5356dd989f13e9b30800e7f+'
 ';
		\nAnmälan senast 10 februari till Kerstin Adolvsson 073 951 51 00.\nVä
 lkomna!
DTSTAMP:20260422T062727Z
DTSTART:20260217T130000Z
DTEND:20260217T150000Z
SEQUENCE:0
TRANSP:OPAQUE
END:VEVENT
END:VCALENDAR