BEGIN:VCALENDAR
VERSION:2.0
PRODID:-//jEvents 2.0 for Joomla//EN
CALSCALE:GREGORIAN
METHOD:PUBLISH
BEGIN:VEVENT
UID:dfd222f540069fc7c0b129cdd674105a
CATEGORIES:Allmänt
SUMMARY:Trivselträff
LOCATION:Tavelsjö församlingsgård
DESCRIPTION;ENCODING=QUOTED-PRINTABLE:<p>x</p>
CONTACT:  Josefin H Nyström Den här e-postadressen skyddas mot spambots. Du måste tillåta JavaScript för att se den.
				document.getElementById('cloaka71de9da4a90c1804446159ee6df6df3').innerHTML = '';
				var prefix = '&#109;a' + 'i&#108;' + '&#116;o';
				var path = 'hr' + 'ef' + '=';
				var addya71de9da4a90c1804446159ee6df6df3 = 'j&#111;s&#101;f&#105;n.h.nystr&#111;m' + '&#64;';
				addya71de9da4a90c1804446159ee6df6df3 = addya71de9da4a90c1804446159ee6df6df3 + 'sv&#101;nsk&#97;kyrk&#97;n' + '&#46;' + 's&#101;';
				var addy_texta71de9da4a90c1804446159ee6df6df3 = 'j&#111;s&#101;f&#105;n.h.nystr&#111;m' + '&#64;' + 'sv&#101;nsk&#97;kyrk&#97;n' + '&#46;' + 's&#101;';document.getElementById('cloaka71de9da4a90c1804446159ee6df6df3').innerHTML += ''+addy_texta71de9da4a90c1804446159ee6df6df3+'';
		
X-EXTRAINFO:torsdag 26 februari 2026\n·\n13.00–15.00\nTavelsjö församlingsgård\nMer inf
 o kommer
DTSTAMP:20260422T062927Z
DTSTART:20260226T130000Z
DTEND:20260226T150000Z
SEQUENCE:0
TRANSP:OPAQUE
END:VEVENT
END:VCALENDAR