BEGIN:VCALENDAR
VERSION:2.0
PRODID:-//jEvents 2.0 for Joomla//EN
CALSCALE:GREGORIAN
METHOD:PUBLISH
BEGIN:VEVENT
UID:0027e4ddd3cbfd25fe43970f261aafb1
CATEGORIES:Allmänt
SUMMARY:Matdax 
LOCATION:Tavelsjö församlingsgård
DESCRIPTION;ENCODING=QUOTED-PRINTABLE:<p>x</p>
CONTACT:  Josefin H Nyström Den här e-postadressen skyddas mot spambots. Du måste tillåta JavaScript för att se den.
				document.getElementById('cloak3402009e3fafea52c9d91a0ed9b710a2').innerHTML = '';
				var prefix = '&#109;a' + 'i&#108;' + '&#116;o';
				var path = 'hr' + 'ef' + '=';
				var addy3402009e3fafea52c9d91a0ed9b710a2 = 'j&#111;s&#101;f&#105;n.h.nystr&#111;m' + '&#64;';
				addy3402009e3fafea52c9d91a0ed9b710a2 = addy3402009e3fafea52c9d91a0ed9b710a2 + 'sv&#101;nsk&#97;kyrk&#97;n' + '&#46;' + 's&#101;';
				var addy_text3402009e3fafea52c9d91a0ed9b710a2 = 'j&#111;s&#101;f&#105;n.h.nystr&#111;m' + '&#64;' + 'sv&#101;nsk&#97;kyrk&#97;n' + '&#46;' + 's&#101;';document.getElementById('cloak3402009e3fafea52c9d91a0ed9b710a2').innerHTML += ''+addy_text3402009e3fafea52c9d91a0ed9b710a2+'';
		
X-EXTRAINFO:torsdag 19 februari 2026\n·\n17.00–20.00\nTavelsjö församlingsgård\nVi äter
  middag tillsammans! Anmälan till Josefin H Nyström Den här e-postadressen 
 skyddas mot spambots. Du måste tillåta JavaScript för att se den.
				docum
 ent.getElementById('cloak036495d69c20a338d2325ac5eac170f8').innerHTML = '';
 
				var prefix = '&#109;a' + 'i&#108;' + '&#116;o';
				var path = 'hr' + 
 'ef' + '=';
				var addy036495d69c20a338d2325ac5eac170f8 = 'j&#111;s&#101;f
 &#105;n.h.nystr&#111;m' + '&#64;';
				addy036495d69c20a338d2325ac5eac170f8
  = addy036495d69c20a338d2325ac5eac170f8 + 'sv&#101;nsk&#97;kyrk&#97;n' + '&
 #46;' + 's&#101;';
				var addy_text036495d69c20a338d2325ac5eac170f8 = 'j&#
 111;s&#101;f&#105;n.h.nystr&#111;m' + '&#64;' + 'sv&#101;nsk&#97;kyrk&#97;n
 ' + '&#46;' + 's&#101;';document.getElementById('cloak036495d69c20a338d2325
 ac5eac170f8').innerHTML += ''+addy_text036495d69c20a338d2325ac5eac170f8+'';
 
		
DTSTAMP:20260422T062926Z
DTSTART:20260219T190000Z
DTEND:20260219T200000Z
SEQUENCE:0
TRANSP:OPAQUE
END:VEVENT
END:VCALENDAR