BEGIN:VCALENDAR
VERSION:2.0
PRODID:-//jEvents 2.0 for Joomla//EN
CALSCALE:GREGORIAN
METHOD:PUBLISH
BEGIN:VEVENT
UID:ca6fa0ceeb0a5f26c50186ad3c575d1c
CATEGORIES:Allmänt
SUMMARY:Skogs Nolia Umeå
LOCATION:Nolia Umeå
DESCRIPTION;ENCODING=QUOTED-PRINTABLE:\n\n\n
X-EXTRAINFO:Norra Sveriges viktigaste skogsmässa\n7-9 maj 2026\nNoliaområdet, Umeå\nSko
 gsnolia är, sedan starten 1984, en av de viktigaste skogsmässorna i Sverige
 . Här möts stora delar av skogens värdekedja: skogsägare, skogsentreprenöre
 r, förare, skogsforskare, företag, myndigheter, skogsägarföreningar, skogsb
 olag, tjänstemän och många andra med skogen som yrke eller intresse.
DTSTAMP:20260424T001112Z
DTSTART:20260507T100000Z
DTEND:20260507T170000Z
SEQUENCE:0
RRULE:FREQ=DAILY;UNTIL=20260510T000000Z;INTERVAL=1
TRANSP:OPAQUE
END:VEVENT
END:VCALENDAR