BEGIN:VCALENDAR
VERSION:2.0
PRODID:-//jEvents 2.0 for Joomla//EN
CALSCALE:GREGORIAN
METHOD:PUBLISH
BEGIN:VEVENT
UID:c262628886538d743633c7a91276a7ad
CATEGORIES:Allmänt
SUMMARY:Matboas Öppettiderna för nyår
LOCATION:Matboa
DESCRIPTION;ENCODING=QUOTED-PRINTABLE:\n\n\n
CONTACT: http://www.matboa.se/ 090-600 30
X-EXTRAINFO:Öppettiderna för nyår lyder:\nNyårsafton 9-17\nNyårsdagen 12-17\nSöndag 12-
 20\n??GOTT NYTT ÅR!! ??\n/Elina och resten av gänget!
DTSTAMP:20260423T145217Z
DTSTART:20211231T090000Z
DTEND:20211231T170000Z
SEQUENCE:0
TRANSP:OPAQUE
END:VEVENT
END:VCALENDAR