BEGIN:VCALENDAR
VERSION:2.0
PRODID:-//jEvents 2.0 for Joomla//EN
CALSCALE:GREGORIAN
METHOD:PUBLISH
BEGIN:VEVENT
UID:c77bbdd228b9e36658d992b590c89649
CATEGORIES:Allmänt
SUMMARY:Nyårsvaka med Blå Bandet
LOCATION:Tavelsjö församlingsgård
DESCRIPTION;ENCODING=QUOTED-PRINTABLE:\n\n\n
CONTACT:Blå Bandet, NBV Norra och Tavelsjö Församling
X-EXTRAINFO:Nyårsvaka med Blå Bandet i Tavelsjö församlingsgård.\nOBS! 21.00 FESTEN BÖR
 JAR! Nyårstallrik från Tavelsjö Wärdshus. Lättsam underhållning och trevlig
  gemenskap.\n23.00 Inför TOLVSLAGET med Laila och Lars Windelius i kyrkan.\
 nÅrets första KYRKKAFFE\nEntré: 150 kr/person över 12 år. Kontant eller Swi
 sh.\nVälkommen- Vaccinerad och utan symtom med risk för smittspridning.\nAr
 rangör: Blå Bandet, NBV Norr, och Tavelsjö församling.
DTSTAMP:20260423T145227Z
DTSTART:20211231T210000Z
DTEND:20211231T000000Z
SEQUENCE:0
TRANSP:OPAQUE
END:VEVENT
END:VCALENDAR