BEGIN:VCALENDAR
VERSION:2.0
PRODID:-//jEvents 2.0 for Joomla//EN
CALSCALE:GREGORIAN
METHOD:PUBLISH
BEGIN:VEVENT
UID:aa49e4d6f669fd8b1c50252319a1cbf6
CATEGORIES:Allmänt
SUMMARY:Wärdshusets nyårspåse
LOCATION:Strandvägen 25 Tavelsjö
DESCRIPTION;ENCODING=QUOTED-PRINTABLE:\n\n\n
CONTACT:070 243 29 40  |  Email: Den här e-postadressen skyddas mot spambots. Du måste tillåta JavaScript för att se den.
				document.getElementById('cloaka2abe4301883aeaf3c28a5cca3bd5d36').innerHTML = '';
				var prefix = '&#109;a' + 'i&#108;' + '&#116;o';
				var path = 'hr' + 'ef' + '=';
				var addya2abe4301883aeaf3c28a5cca3bd5d36 = '&#105;nf&#111;' + '&#64;';
				addya2abe4301883aeaf3c28a5cca3bd5d36 = addya2abe4301883aeaf3c28a5cca3bd5d36 + 't&#97;v&#101;lsj&#111;w&#97;rdsh&#117;s' + '&#46;' + 's&#101;';
				var addy_texta2abe4301883aeaf3c28a5cca3bd5d36 = '&#105;nf&#111;' + '&#64;' + 't&#97;v&#101;lsj&#111;w&#97;rdsh&#117;s' + '&#46;' + 's&#101;';document.getElementById('cloaka2abe4301883aeaf3c28a5cca3bd5d36').innerHTML += ''+addy_texta2abe4301883aeaf3c28a5cca3bd5d36+'';
		
X-EXTRAINFO:Vi erbjuder i år en underbar nyårsmeny som ni enkelt kan ta med er hem och 
 laga till ert sällskap. Vi förbereder maten så långt det går och skickar me
 d instruktioner på de avslutande stegen som sker hemma i köket.\nMENY\nPilg
 rimsmussla med blomkålscréme,\nchampagnesås, rom och västerbottensostflarn\
 n​\nOxfilé med potatisterrin,\nmadeirasky och svampduxelle\n​\nHallonpannac
 otta med hallonmylta\noch kaksmulor\nBokning senast 27/12, hämtning sker på
  Tavelsjö Wärdshus mellan klockan 11-16 den 30/12.\nPris 495:- / person\nFö
 r mer information kolla in vår hemsida eller hör av dig till oss\ntavelsjöw
 ärdshus.se\nDen här e-postadressen skyddas mot spambots. Du måste tillåta J
 avaScript för att se den.
				document.getElementById('cloak33c0567cc9cf2e2
 5ec8c5e2a80385ab6').innerHTML = '';
				var prefix = '&#109;a' + 'i&#108;' 
 + '&#116;o';
				var path = 'hr' + 'ef' + '=';
				var addy33c0567cc9cf2e25
 ec8c5e2a80385ab6 = '&#105;nf&#111;' + '&#64;';
				addy33c0567cc9cf2e25ec8c
 5e2a80385ab6 = addy33c0567cc9cf2e25ec8c5e2a80385ab6 + 't&#97;v&#101;lsj&#11
 1;w&#97;rdsh&#117;s' + '&#46;' + 's&#101;';
				var addy_text33c0567cc9cf2e
 25ec8c5e2a80385ab6 = '&#105;nf&#111;' + '&#64;' + 't&#97;v&#101;lsj&#111;w&
 #97;rdsh&#117;s' + '&#46;' + 's&#101;';document.getElementById('cloak33c056
 7cc9cf2e25ec8c5e2a80385ab6').innerHTML += ''+addy_text33c0567cc9cf2e25ec8c5
 e2a80385ab6+'';
		\n070 243 29 40
DTSTAMP:20260423T145233Z
DTSTART:20211228T110000Z
DTEND:20211228T170000Z
SEQUENCE:0
TRANSP:OPAQUE
END:VEVENT
END:VCALENDAR