BEGIN:VCALENDAR
VERSION:2.0
PRODID:-//jEvents 2.0 for Joomla//EN
CALSCALE:GREGORIAN
METHOD:PUBLISH
BEGIN:VEVENT
UID:91125cd62dd8e82e9621eb5342569e99
CATEGORIES:Allmänt
SUMMARY:Julstängt på Root
LOCATION:Sundlingska gården Sand 21
DESCRIPTION;ENCODING=QUOTED-PRINTABLE:\n\n\n
CONTACT:hello@weareroot.se | 070–309 1848
X-EXTRAINFO:En ny härlig säsongen med isbanan som lockat besökare från runtom i Europa,
  Isbanan är lika bred som en motorväg och 9 km lång på vackra Tavelsjön. \n
  We recommend heading out early in the day if you plan to skate on the open
 ing weekend. If you plan to visit us here at Root, we strongly recommened b
 ooking a table as we will be full. Happy skating ?\nVare sig du är en van s
 kridskoåkare eller en nybörjare så finns det något för dig på Tavelsjö isba
 na. Skridskor kan hyras här och vi har även flera sparkar som är gratis att
  lång om du inte känner dig redo att ge dig på skridskorna än.\n
DTSTAMP:20260423T145234Z
DTSTART:20211220T080000Z
DTEND:20211220T170000Z
SEQUENCE:0
RRULE:FREQ=DAILY;UNTIL=20211227T000000Z;INTERVAL=1
TRANSP:OPAQUE
END:VEVENT
END:VCALENDAR