BEGIN:VCALENDAR
VERSION:2.0
PRODID:-//jEvents 2.0 for Joomla//EN
CALSCALE:GREGORIAN
METHOD:PUBLISH
BEGIN:VEVENT
UID:0e72eb8c4e5447b528089ec71cf5a094
CATEGORIES:Allmänt
SUMMARY:Julfinal på Nordenssons gårdsbutik
LOCATION:Kroksjö 32
DESCRIPTION;ENCODING=QUOTED-PRINTABLE:\n\n\n
CONTACT:Elin 070-650 61 63
X-EXTRAINFO:På lördag har vi öppet för sista gången innan jul! \nSå glöm inte bort att 
 köpa hem glögg, gofika, bröd, julklappar och framförallt kött så ni kan rul
 la köttbullar och göra storkok så att maten sköter sig själv medans ni kan 
 njuta av lite ledighet. \nButiken är öppen kl 12-16 så då är ni varmt välko
 mmen in ? \nVisst är det helt fantastiskt att denna blomma blommar trots vi
 nter och endast 10 grader där den står ? första gången jag lyckas att överv
 intra pelargoner ?
DTSTAMP:20260423T145345Z
DTSTART:20211218T120000Z
DTEND:20211218T160000Z
SEQUENCE:0
TRANSP:OPAQUE
END:VEVENT
END:VCALENDAR