BEGIN:VCALENDAR
VERSION:2.0
PRODID:-//jEvents 2.0 for Joomla//EN
CALSCALE:GREGORIAN
METHOD:PUBLISH
BEGIN:VEVENT
UID:dfbe4397ced376192119afb33425e4e8
CATEGORIES:Allmänt
SUMMARY:knform helgsöppet
LOCATION:Näset 213 ( gamla matboa )
DESCRIPTION;ENCODING=QUOTED-PRINTABLE:\n\n\n
CONTACT:Katarina 070-3083896  Den här e-postadressen skyddas mot spambots. Du måste tillåta JavaScript för att se den.
				document.getElementById('cloak027c7cf9706b4eccd812fb1f2b8c1109').innerHTML = '';
				var prefix = '&#109;a' + 'i&#108;' + '&#116;o';
				var path = 'hr' + 'ef' + '=';
				var addy027c7cf9706b4eccd812fb1f2b8c1109 = 'k&#97;t&#97;r&#105;n&#97;f&#111;rm' + '&#64;';
				addy027c7cf9706b4eccd812fb1f2b8c1109 = addy027c7cf9706b4eccd812fb1f2b8c1109 + 'gm&#97;&#105;l' + '&#46;' + 'c&#111;m';
				var addy_text027c7cf9706b4eccd812fb1f2b8c1109 = 'k&#97;t&#97;r&#105;n&#97;f&#111;rm' + '&#64;' + 'gm&#97;&#105;l' + '&#46;' + 'c&#111;m';document.getElementById('cloak027c7cf9706b4eccd812fb1f2b8c1109').innerHTML += ''+addy_text027c7cf9706b4eccd812fb1f2b8c1109+'';
		
X-EXTRAINFO:Öppet Lör-Sön 12-15, även loppis!\nNi hälsas Välkomna!
DTSTAMP:20260423T145320Z
DTSTART:20211218T120000Z
DTEND:20211218T150000Z
SEQUENCE:0
TRANSP:OPAQUE
END:VEVENT
END:VCALENDAR