BEGIN:VCALENDAR
VERSION:2.0
PRODID:-//jEvents 2.0 for Joomla//EN
CALSCALE:GREGORIAN
METHOD:PUBLISH
BEGIN:VEVENT
UID:28d10932262f37303e509d536375f8fd
CATEGORIES:Allmänt
SUMMARY:Wärdshusets Lokala Julpåse
LOCATION:Strandvägen 25 Tavelsjö
DESCRIPTION;ENCODING=QUOTED-PRINTABLE:\n\n\n
CONTACT:070 243 29 40  |  Email: Den här e-postadressen skyddas mot spambots. Du måste tillåta JavaScript för att se den.
				document.getElementById('cloak834a937e57a0d7b9cf76bde62767cc43').innerHTML = '';
				var prefix = '&#109;a' + 'i&#108;' + '&#116;o';
				var path = 'hr' + 'ef' + '=';
				var addy834a937e57a0d7b9cf76bde62767cc43 = '&#105;nf&#111;' + '&#64;';
				addy834a937e57a0d7b9cf76bde62767cc43 = addy834a937e57a0d7b9cf76bde62767cc43 + 't&#97;v&#101;lsj&#111;w&#97;rdsh&#117;s' + '&#46;' + 's&#101;';
				var addy_text834a937e57a0d7b9cf76bde62767cc43 = '&#105;nf&#111;' + '&#64;' + 't&#97;v&#101;lsj&#111;w&#97;rdsh&#117;s' + '&#46;' + 's&#101;';document.getElementById('cloak834a937e57a0d7b9cf76bde62767cc43').innerHTML += ''+addy_text834a937e57a0d7b9cf76bde62767cc43+'';
		
X-EXTRAINFO:Nu släpper vi Årets lokala julpåse, begränsade antal och med hämtning den 2
 3 dec mellan 12-16\n- x3 sill (Wärdshusets egna löksill, västerbottensostsi
 ll och senapssill)\n- Gravad lax\n- Gubbröra (Wärdshusets egna)\n- Salami f
 rån Familjen Hansen\n- Rökt Älgstek (Bergmans Vilhelmina)\n- Renkorv \n- Ju
 lskinka (Norrländsk)\n- Janssons (Wärdshusets egna)\n- Äppelmos (Wärdshuset
  egna)\n- Rödbetssallad (Wärdshuset egna)\n- Senap\n- Potatis från Rödsel\n
 - Tunnbröd fr Botsmark\n- Glögg från Nordenssons gård \nPris 349kr/pers\nMi
 nsta antal 2 pers\nHjärtligt välkommen med din beställning!\nDen här e-post
 adressen skyddas mot spambots. Du måste tillåta JavaScript för att se den.

 				document.getElementById('cloakd864892a36c7c15cbfeb1eb1be5ecf46').innerH
 TML = '';
				var prefix = '&#109;a' + 'i&#108;' + '&#116;o';
				var path 
 = 'hr' + 'ef' + '=';
				var addyd864892a36c7c15cbfeb1eb1be5ecf46 = '&#105;
 nf&#111;' + '&#64;';
				addyd864892a36c7c15cbfeb1eb1be5ecf46 = addyd864892
 a36c7c15cbfeb1eb1be5ecf46 + 't&#97;v&#101;lsj&#111;w&#97;rdsh&#117;s' + '&#
 46;' + 's&#101;';
				var addy_textd864892a36c7c15cbfeb1eb1be5ecf46 = '&#10
 5;nf&#111;' + '&#64;' + 't&#97;v&#101;lsj&#111;w&#97;rdsh&#117;s' + '&#46;'
  + 's&#101;';document.getElementById('cloakd864892a36c7c15cbfeb1eb1be5ecf46
 ').innerHTML += ''+addy_textd864892a36c7c15cbfeb1eb1be5ecf46+'';
		\n070 24
 3 29 40
DTSTAMP:20260423T145233Z
DTSTART:20211221T110000Z
DTEND:20211221T170000Z
SEQUENCE:0
TRANSP:OPAQUE
END:VEVENT
END:VCALENDAR