BEGIN:VCALENDAR
VERSION:2.0
PRODID:-//jEvents 2.0 for Joomla//EN
CALSCALE:GREGORIAN
METHOD:PUBLISH
BEGIN:VEVENT
UID:7d83b7525ce8dac785a9c91ba94b147d
CATEGORIES:Allmänt
SUMMARY:Wärdshusets Lokala Julpåse
LOCATION:Strandvägen 25 Tavelsjö
DESCRIPTION;ENCODING=QUOTED-PRINTABLE:\n\n\n
CONTACT:070 243 29 40  |  Email: Den här e-postadressen skyddas mot spambots. Du måste tillåta JavaScript för att se den.
				document.getElementById('cloak238d7c242417424f186302a7625554ff').innerHTML = '';
				var prefix = '&#109;a' + 'i&#108;' + '&#116;o';
				var path = 'hr' + 'ef' + '=';
				var addy238d7c242417424f186302a7625554ff = '&#105;nf&#111;' + '&#64;';
				addy238d7c242417424f186302a7625554ff = addy238d7c242417424f186302a7625554ff + 't&#97;v&#101;lsj&#111;w&#97;rdsh&#117;s' + '&#46;' + 's&#101;';
				var addy_text238d7c242417424f186302a7625554ff = '&#105;nf&#111;' + '&#64;' + 't&#97;v&#101;lsj&#111;w&#97;rdsh&#117;s' + '&#46;' + 's&#101;';document.getElementById('cloak238d7c242417424f186302a7625554ff').innerHTML += ''+addy_text238d7c242417424f186302a7625554ff+'';
		
X-EXTRAINFO:Nu släpper vi Årets lokala julpåse, begränsade antal och med hämtning den 2
 3 dec mellan 12-16\n- x3 sill (Wärdshusets egna löksill, västerbottensostsi
 ll och senapssill)\n- Gravad lax\n- Gubbröra (Wärdshusets egna)\n- Salami f
 rån Familjen Hansen\n- Rökt Älgstek (Bergmans Vilhelmina)\n- Renkorv \n- Ju
 lskinka (Norrländsk)\n- Janssons (Wärdshusets egna)\n- Äppelmos (Wärdshuset
  egna)\n- Rödbetssallad (Wärdshuset egna)\n- Senap\n- Potatis från Rödsel\n
 - Tunnbröd fr Botsmark\n- Glögg från Nordenssons gård \nPris 349kr/pers\nMi
 nsta antal 2 pers\nHjärtligt välkommen med din beställning!\nDen här e-post
 adressen skyddas mot spambots. Du måste tillåta JavaScript för att se den.

 				document.getElementById('cloak2374cb92929539245684b225b4ba0adf').innerH
 TML = '';
				var prefix = '&#109;a' + 'i&#108;' + '&#116;o';
				var path 
 = 'hr' + 'ef' + '=';
				var addy2374cb92929539245684b225b4ba0adf = '&#105;
 nf&#111;' + '&#64;';
				addy2374cb92929539245684b225b4ba0adf = addy2374cb9
 2929539245684b225b4ba0adf + 't&#97;v&#101;lsj&#111;w&#97;rdsh&#117;s' + '&#
 46;' + 's&#101;';
				var addy_text2374cb92929539245684b225b4ba0adf = '&#10
 5;nf&#111;' + '&#64;' + 't&#97;v&#101;lsj&#111;w&#97;rdsh&#117;s' + '&#46;'
  + 's&#101;';document.getElementById('cloak2374cb92929539245684b225b4ba0adf
 ').innerHTML += ''+addy_text2374cb92929539245684b225b4ba0adf+'';
		\n070 24
 3 29 40
DTSTAMP:20260423T151758Z
DTSTART:20211215T110000Z
DTEND:20211215T170000Z
SEQUENCE:0
TRANSP:OPAQUE
END:VEVENT
END:VCALENDAR