BEGIN:VCALENDAR
VERSION:2.0
PRODID:-//jEvents 2.0 for Joomla//EN
CALSCALE:GREGORIAN
METHOD:PUBLISH
BEGIN:VEVENT
UID:96c2bf344e0e7d40f9da9ed9b2c1a641
CATEGORIES:Allmänt
SUMMARY:Blomhyllan Handelsträdgård helgöppet
LOCATION:Tavelsjövägen 14
DESCRIPTION;ENCODING=QUOTED-PRINTABLE:\n\nxx\n
CONTACT:Ulrika 073-834 77 31
X-EXTRAINFO:Varmt Välkomna denna helg,\nButiken är öppen 12-15 både Lördag och Söndag! 
 ?☃️❄\nJulklappar till stora och små.. eller till dig själv??\nHar även plan
 terat några Julgrupper!
DTSTAMP:20260423T145228Z
DTSTART:20211204T080000Z
DTEND:20211204T170000Z
SEQUENCE:0
TRANSP:OPAQUE
END:VEVENT
END:VCALENDAR