BEGIN:VCALENDAR
VERSION:2.0
PRODID:-//jEvents 2.0 for Joomla//EN
CALSCALE:GREGORIAN
METHOD:PUBLISH
BEGIN:VEVENT
UID:40628dfad66b24c6094cab9ce290a16f
CATEGORIES:Allmänt
SUMMARY:Gospelkonsert i Vindeln
LOCATION:Vindelns Kyrka
DESCRIPTION;ENCODING=QUOTED-PRINTABLE:\n\nxx\n
X-EXTRAINFO:Nu på söndag 5/12 kl 18 blir det en hejdundrande gospelkonsert i Vindelns k
 yrka! \nDetta med kören Vindeln Gospel bestående av 40 sångare och 5 musike
 r. \nInträdet är gratis!\nFör att komma in behövs ett vaccinpass som ni enk
 elt kan ladda ner i telefonen eller skriva ut. Kom gärna i god tid så att v
 i hinner scanna det, dörrarna är öppna från kl 17.\nVarmt välkomna!
DTSTAMP:20260423T145351Z
DTSTART:20211205T170000Z
DTEND:20211205T190000Z
SEQUENCE:0
TRANSP:OPAQUE
END:VEVENT
END:VCALENDAR