BEGIN:VCALENDAR
VERSION:2.0
PRODID:-//jEvents 2.0 for Joomla//EN
CALSCALE:GREGORIAN
METHOD:PUBLISH
BEGIN:VEVENT
UID:ad760b5be7d403c3c16abd6fab5b0e65
CATEGORIES:Allmänt
SUMMARY:Jul på Mickelbo gård
LOCATION:Mickelträsk 35
DESCRIPTION;ENCODING=QUOTED-PRINTABLE:<p>xx</p>
CONTACT:Linda 070-376 71 09
X-EXTRAINFO:Nu är julen här!\nTräffa tomten som anländer genom parken med häst och släd
 e 11.45. Passa på att kliva ner i släden och ta ett kort med tomten. Sedan 
 träffar du honom i sin stuga där han sitter och tar emot önskelistor.\nTrol
 len kokar årets trollsoppisoppa, kom och hjälp dem göra den riktigt mumsig.
  \nÅk kana med isbjörnen och hjälp snögubben hitta de oväntade gästerna i s
 itt land. Kråkan har en gåta att lösa, för var har hans skatt tagit vägen?\
 nGå på klappjakt, ta en slädtur med häst, rid på ponny och vissa dagar komm
 er även hundspann på besök.\nUte i parken träffar ni alpackor, lamor, kamel
 er, getter, hästar, jakar, kor och åsnor. Klockan 13.00 får ni mata alpacko
 r.\nInne i Lagårn finns smådjuren att mysa med.\nI cafét finns julinspirera
 t fika och hamburgare, våfflor och västerbottenspaj som vanligt.\nSlädtur 3
 0:- per/person\nKlappjakt 30:- \nPonnyridning 20:-\nEntré \nVuxna 150:- Bar
 n (2-17år) 90:-
DTSTAMP:20260423T122712Z
DTSTART:20211204T110000Z
DTEND:20211204T150000Z
SEQUENCE:0
TRANSP:OPAQUE
END:VEVENT
END:VCALENDAR