BEGIN:VCALENDAR
VERSION:2.0
PRODID:-//jEvents 2.0 for Joomla//EN
CALSCALE:GREGORIAN
METHOD:PUBLISH
BEGIN:VEVENT
UID:375eca32ba73165485b8ca08a7893e31
CATEGORIES:Allmänt
SUMMARY:Julkonsert och Wärdshusets stora jultallrik!
LOCATION:Strandvägen 25 Tavelsjö
DESCRIPTION;ENCODING=QUOTED-PRINTABLE:\n\n\n
CONTACT:070 243 29 40  |  Email: Den här e-postadressen skyddas mot spambots. Du måste tillåta JavaScript för att se den.
				document.getElementById('cloak0ebb796b687072ec5f3e7689e65851e5').innerHTML = '';
				var prefix = '&#109;a' + 'i&#108;' + '&#116;o';
				var path = 'hr' + 'ef' + '=';
				var addy0ebb796b687072ec5f3e7689e65851e5 = '&#105;nf&#111;' + '&#64;';
				addy0ebb796b687072ec5f3e7689e65851e5 = addy0ebb796b687072ec5f3e7689e65851e5 + 't&#97;v&#101;lsj&#111;w&#97;rdsh&#117;s' + '&#46;' + 's&#101;';
				var addy_text0ebb796b687072ec5f3e7689e65851e5 = '&#105;nf&#111;' + '&#64;' + 't&#97;v&#101;lsj&#111;w&#97;rdsh&#117;s' + '&#46;' + 's&#101;';document.getElementById('cloak0ebb796b687072ec5f3e7689e65851e5').innerHTML += ''+addy_text0ebb796b687072ec5f3e7689e65851e5+'';
		
X-EXTRAINFO:Starta årets julfirande med julkonsert av Lisbeth Fors Malm och Wärdshusets
  stora jultallrik!1/12, konsert med andakt 13:00\nJultallrik serveras kl 11
 :30 eller 14:15\nPris 345:- / pers. Dryck tillkommer.\nI detta ingår \n- Ko
 nsert med Lisbeth Fors Malm\n- Andakt med Johannes Nord\n- Årets stora jult
 allrik med kallt, varmt samt gott till kaffet\nDet finns ett begränsat anta
 l platser, först till kvarn gäller! Boka dina platser via oss på Wärdshuset
 . \nDen här e-postadressen skyddas mot spambots. Du måste tillåta JavaScrip
 t för att se den.
				document.getElementById('cloak736e71bb9de13123f7df210
 d33a13f09').innerHTML = '';
				var prefix = '&#109;a' + 'i&#108;' + '&#116
 ;o';
				var path = 'hr' + 'ef' + '=';
				var addy736e71bb9de13123f7df210d
 33a13f09 = '&#105;nf&#111;' + '&#64;';
				addy736e71bb9de13123f7df210d33a1
 3f09 = addy736e71bb9de13123f7df210d33a13f09 + 't&#97;v&#101;lsj&#111;w&#97;
 rdsh&#117;s' + '&#46;' + 's&#101;';
				var addy_text736e71bb9de13123f7df21
 0d33a13f09 = '&#105;nf&#111;' + '&#64;' + 't&#97;v&#101;lsj&#111;w&#97;rdsh
 &#117;s' + '&#46;' + 's&#101;';document.getElementById('cloak736e71bb9de131
 23f7df210d33a13f09').innerHTML += ''+addy_text736e71bb9de13123f7df210d33a13
 f09+'';
		\n0702432940
DTSTAMP:20260423T145337Z
DTSTART:20211201T130000Z
DTEND:20211201T170000Z
SEQUENCE:0
TRANSP:OPAQUE
END:VEVENT
END:VCALENDAR