BEGIN:VCALENDAR
VERSION:2.0
PRODID:-//jEvents 2.0 for Joomla//EN
CALSCALE:GREGORIAN
METHOD:PUBLISH
BEGIN:VEVENT
UID:83efa4fbce767bcb9f9318ff76b8dbb8
CATEGORIES:Allmänt
SUMMARY:Julkonser på Heleneborgs Gård,
LOCATION:Heleneborg 26, Tavelsjö
DESCRIPTION;ENCODING=QUOTED-PRINTABLE:\n\n\n\n\n\n
CONTACT:Bokning Torbjörn Wennebro  070-209 5375
X-EXTRAINFO:Boka in datum!\nI år blir det premiär för julkonserter på Heleneborgs Gård,
  Tavelsjö. Boka in lördag 27/11, alt. fredag 3/12 eller lördag 4/12. Alla k
 onserter kl. 19.00.\nLars Sandgren, Håkan Burström, Tommy Granlund och Kurt
  Wennebro i bandet Björkarna bjuder på klassiska jullåtar och evergreens.
DTSTAMP:20260423T145228Z
DTSTART:20211203T190000Z
DTEND:20211203T200000Z
SEQUENCE:0
TRANSP:OPAQUE
END:VEVENT
END:VCALENDAR