BEGIN:VCALENDAR
VERSION:2.0
PRODID:-//jEvents 2.0 for Joomla//EN
CALSCALE:GREGORIAN
METHOD:PUBLISH
BEGIN:VEVENT
UID:45ba5c017cd964b031d05643b4ab5904
CATEGORIES:Allmänt
SUMMARY:Jul på Root
LOCATION:Sundlingska gården
DESCRIPTION;ENCODING=QUOTED-PRINTABLE:\n\n\n
CONTACT: 070-309 1848
X-EXTRAINFO:Med inspiration från de jular vi jobbat i restauranger i London kommer vårt
  Kulbord bestå av traditionella julsmaker fast med en Root-tvist. Tänk dig 
 ett bord fullt av smarrigheter, lekar och spel vid bordet med dina nära och
  kära och ett urval av julpizzor. \nVårt kulbord serveras under december må
 nad fram till den 23 december och förbokning krävs (boka här, välj ”Kulbord
 ” när du bokar). Vi serverar allt vid bordet och upplägget är baserat på må
 nga små rätter som delas vid bordet.\n\nI år planerar vi att sätta upp över
  1000 julgranskulor i taket!\n\nKostnaden är 295kr/person vilket betalas vi
 d bokning (full återbetalning om du avbokar mer än 24h i förväg). Barn kan 
 antingen äta Kulbord för halva priset, halva portionstorleken, eller pizza 
 från vår meny.
DTSTAMP:20260423T145345Z
DTSTART:20211204T090000Z
DTEND:20211204T190000Z
SEQUENCE:0
TRANSP:OPAQUE
END:VEVENT
END:VCALENDAR